BEGIN:VCALENDAR
VERSION:2.0
PRODID:-//Jasper Pickens County GA - ECPv6.15.20//NONSGML v1.0//EN
CALSCALE:GREGORIAN
METHOD:PUBLISH
X-WR-CALNAME:Jasper Pickens County GA
X-ORIGINAL-URL:https://jasperpickenscountyga.com
X-WR-CALDESC:Events for Jasper Pickens County GA
REFRESH-INTERVAL;VALUE=DURATION:PT1H
X-Robots-Tag:noindex
X-PUBLISHED-TTL:PT1H
BEGIN:VTIMEZONE
TZID:America/New_York
BEGIN:DAYLIGHT
TZOFFSETFROM:-0500
TZOFFSETTO:-0400
TZNAME:EDT
DTSTART:20240310T070000
END:DAYLIGHT
BEGIN:STANDARD
TZOFFSETFROM:-0400
TZOFFSETTO:-0500
TZNAME:EST
DTSTART:20241103T060000
END:STANDARD
BEGIN:DAYLIGHT
TZOFFSETFROM:-0500
TZOFFSETTO:-0400
TZNAME:EDT
DTSTART:20250309T070000
END:DAYLIGHT
BEGIN:STANDARD
TZOFFSETFROM:-0400
TZOFFSETTO:-0500
TZNAME:EST
DTSTART:20251102T060000
END:STANDARD
BEGIN:DAYLIGHT
TZOFFSETFROM:-0500
TZOFFSETTO:-0400
TZNAME:EDT
DTSTART:20260308T070000
END:DAYLIGHT
BEGIN:STANDARD
TZOFFSETFROM:-0400
TZOFFSETTO:-0500
TZNAME:EST
DTSTART:20261101T060000
END:STANDARD
END:VTIMEZONE
BEGIN:VEVENT
DTSTART;TZID=America/New_York:20250405T073000
DTEND;TZID=America/New_York:20250405T120000
DTSTAMP:20260421T050647
CREATED:20250215T163429Z
LAST-MODIFIED:20250218T070130Z
UID:1984-1743838200-1743854400@jasperpickenscountyga.com
SUMMARY:Jasper Farmers Market - Opening Day 2025
DESCRIPTION:Join Us for the Opening Day of the Jasper Farmers Market!\nSpring is in the air\, and that means the Jasper Farmers Market is back! Join us for Opening Day 2025 as we celebrate another season of fresh produce\, handcrafted goods\, and local treasures. This is more than just a market—it’s a community tradition where neighbors gather\, friendships grow\, and local businesses thrive. \nWhat You’ll Find\n🍎 Farm-Fresh Produce – Straight from local farms to your table.🛍 Handmade Crafts & Goods – Unique\, artisan creations you won’t find anywhere else.🎶 Live Entertainment & Community Vibes – A welcoming atmosphere filled with music\, laughter\, and hometown charm. \nOpening Day: Event Details\n📅 Date: Check event details on Facebook📍 Location: Jasper\, GA \nWhy You Should Attend\n\nSupport Local Farmers & Artisans – Every purchase strengthens the local economy.\nDiscover One-of-a-Kind Finds – From organic produce to handmade gifts\, there’s something for everyone.\nEnjoy a Relaxing\, Family-Friendly Environment – Come for the shopping\, stay for the community!\n\nBe Part of the Tradition!\nDon’t miss out on the best way to kick off the season! Whether you’re here to shop\, mingle\, or just enjoy the local flavors\, there’s something for everyone.
URL:https://jasperpickenscountyga.com/event/jasper-farmers-market-opening-day-2025/
LOCATION:Park & Ride Lot\, 101 Mountain Park Rd\, Jasper\, GA\, 30143-6258\, United States
CATEGORIES:Upcoming events
ATTACH;FMTTYPE=image/png:https://jasperpickenscountyga.com/wp-content/uploads/2025/02/Opening-Day.png
END:VEVENT
END:VCALENDAR